BEGIN:VCALENDAR
VERSION:2.0
PRODID:-//Plone.org//NONSGML plone.app.event//EN
X-WR-TIMEZONE:Europe/Madrid
BEGIN:VEVENT
SUMMARY:Entre Nous
DTSTART;TZID=Europe/Madrid;VALUE=DATE-TIME:20240504T190000
DTEND;TZID=Europe/Madrid;VALUE=DATE-TIME:20240504T200000
DTSTAMP;VALUE=DATE-TIME:20260419T212058Z
UID:1bed479c4d2dda21393e0b244cf003a8
CREATED;VALUE=DATE-TIME:20240504T000000Z
CATEGORIES:Activitats familiars,Teatre i altres espectacles,Activitats
LOCATION:Plaça de la Sardana - Plaça de la Sardana
ORGANIZER:Ajuntament de Premià de Mar
COMMENT:Preu: Gratuït
Durada: Durada: 40 minuts
DESCRIPTION:Festival de circ
URL:https://premiademar.cat/document.php?id=26599
END:VEVENT
END:VCALENDAR