BEGIN:VCALENDAR
VERSION:2.0
PRODID:-//Plone.org//NONSGML plone.app.event//EN
X-WR-TIMEZONE:Europe/Madrid
BEGIN:VEVENT
SUMMARY:Taller de circ
DTSTART;TZID=Europe/Madrid;VALUE=DATE-TIME:20240505T103000
DTEND;TZID=Europe/Madrid;VALUE=DATE-TIME:20240505T113000
DTSTAMP;VALUE=DATE-TIME:20260419T211320Z
UID:5fd5f65da9e810038794bb9ef0cb5eec
CREATED;VALUE=DATE-TIME:20240505T000000Z
CATEGORIES:Activitats familiars,Teatre i altres espectacles,Activitats
LOCATION:Plaça de Mercè Rodoreda - Plaça de Mercè Rodoreda
ORGANIZER:Ajuntament de Premià de Mar
COMMENT:Preu: Gratuït
DESCRIPTION:A càrrec de Cronopis
URL:https://premiademar.cat/document.php?id=26630
END:VEVENT
END:VCALENDAR