BEGIN:VCALENDAR
VERSION:2.0
PRODID:-//Plone.org//NONSGML plone.app.event//EN
X-WR-TIMEZONE:Europe/Madrid
BEGIN:VEVENT
SUMMARY:Piscolabis de benvinguda del Festival
DTSTART;TZID=Europe/Madrid;VALUE=DATE-TIME:20240503T193000
DTEND;TZID=Europe/Madrid;VALUE=DATE-TIME:20240503T203000
DTSTAMP;VALUE=DATE-TIME:20260421T124458Z
UID:120f9ade59cfd8c10808ef2858d9c0bf
CREATED;VALUE=DATE-TIME:20240503T000000Z
CATEGORIES:Activitats familiars,Teatre i altres espectacles,Activitats
LOCATION:Centre Cívic - Esperança, 19
ORGANIZER:Ajuntament de Premià de Mar
COMMENT:Preu: Gratuït
DESCRIPTION:A càrrec d'Eunoia Colectiva i Cia Derecha Izquierda
URL:https://premiademar.cat/document.php?id=26654
END:VEVENT
END:VCALENDAR