BEGIN:VCALENDAR
VERSION:2.0
PRODID:-//Plone.org//NONSGML plone.app.event//EN
X-WR-TIMEZONE:Europe/Madrid
BEGIN:VEVENT
SUMMARY:SIGNATURA CONVENI "CAP NEN SENSE CONTE"
DTSTART;TZID=Europe/Madrid;VALUE=DATE-TIME:20240416T141500
DTEND;TZID=Europe/Madrid;VALUE=DATE-TIME:20240416T151500
DTSTAMP;VALUE=DATE-TIME:20260421T114354Z
UID:cf4837fe69b8e36556293be5b10c7532
CREATED;VALUE=DATE-TIME:20240416T000000Z
CATEGORIES:Agenda de l'alcalde
LOCATION:Alcaldia
COMMENT:Durada: 1 hora
URL:https://premiademar.cat/document.php?id=26677
END:VEVENT
END:VCALENDAR