BEGIN:VCALENDAR
VERSION:2.0
PRODID:-//Plone.org//NONSGML plone.app.event//EN
X-WR-TIMEZONE:Europe/Madrid
BEGIN:VEVENT
SUMMARY:La joia del Museu Romà
DTSTART;TZID=Europe/Madrid;VALUE=DATE-TIME:20240519T113000
DTEND;TZID=Europe/Madrid;VALUE=DATE-TIME:20240519T123000
DTSTAMP;VALUE=DATE-TIME:20260419T211952Z
UID:bdfec64982d8838f25f57651a496572d
CREATED;VALUE=DATE-TIME:20240519T000000Z
CATEGORIES:Museus i exposicions
LOCATION:Museu Romà - Carrer de la Vil·la Romana, s/n
COMMENT:Preu: Entrada lliure
URL:https://premiademar.cat/document.php?id=26802
END:VEVENT
END:VCALENDAR