BEGIN:VCALENDAR
VERSION:2.0
PRODID:-//Plone.org//NONSGML plone.app.event//EN
X-WR-TIMEZONE:Europe/Madrid
BEGIN:VEVENT
SUMMARY:Què és (i què no és) la sostenibilitat?
DTSTART;TZID=Europe/Madrid;VALUE=DATE-TIME:20240605T180000
DTEND;TZID=Europe/Madrid;VALUE=DATE-TIME:20240605T190000
DTSTAMP;VALUE=DATE-TIME:20260425T153022Z
UID:c3166965c2a955dcf3928d684d7d1ef3
CREATED;VALUE=DATE-TIME:20240605T000000Z
CATEGORIES:Cursos
LOCATION:Edifici Can Roura (Carrer Sant Antoni 21-27 Planta 1)
ORGANIZER:Premià Energia
COMMENT:Preu: Gratuït
Durada: 1h 30'
DESCRIPTION:Taller-debat sobre sostenibilitat i transició ecològica. Situació energètica actual. Petjada ecològica. Models de transició possibles. Mesures per a una vida "sostenible".
URL:https://premiademar.cat/document.php?id=26877
END:VEVENT
END:VCALENDAR