BEGIN:VCALENDAR
VERSION:2.0
PRODID:-//Plone.org//NONSGML plone.app.event//EN
X-WR-TIMEZONE:Europe/Madrid
BEGIN:VEVENT
SUMMARY:Ballada de sardanes
DTSTART;TZID=Europe/Madrid;VALUE=DATE-TIME:20240519T113000
DTEND;TZID=Europe/Madrid;VALUE=DATE-TIME:20240519T123000
DTSTAMP;VALUE=DATE-TIME:20260419T212001Z
UID:b193b421187b86fce57069e52e89a3a3
CREATED;VALUE=DATE-TIME:20240519T000000Z
CATEGORIES:Cultura popular,Música
LOCATION:Plaça de l'Ajuntament - Plaça Ajuntament, 1
ORGANIZER:Amics de la Sardana de Premià de Mar
COMMENT:Col·labora: Ajuntament de Premià de Mar
Preu: Gratuit
Durada: Dues hores
URL:https://premiademar.cat/document.php?id=26895
END:VEVENT
END:VCALENDAR