BEGIN:VCALENDAR
VERSION:2.0
PRODID:-//Plone.org//NONSGML plone.app.event//EN
X-WR-TIMEZONE:Europe/Madrid
BEGIN:VEVENT
SUMMARY:Cuina sense pares
DTSTART;TZID=Europe/Madrid;VALUE=DATE-TIME:20240517T173000
DTEND;TZID=Europe/Madrid;VALUE=DATE-TIME:20240517T183000
DTSTAMP;VALUE=DATE-TIME:20260421T150254Z
UID:5fe7eec5560b7058cff636145750d76d
CREATED;VALUE=DATE-TIME:20240517T000000Z
CATEGORIES:Activitats
LOCATION:Can Salamó - Carrer de la Plaça, 65
COMMENT:Preu: Gratuït
DESCRIPTION:Vine i explora el món de la cuina de forma divertida i segura.
URL:https://premiademar.cat/document.php?id=26913
END:VEVENT
END:VCALENDAR