BEGIN:VCALENDAR
VERSION:2.0
PRODID:-//Plone.org//NONSGML plone.app.event//EN
X-WR-TIMEZONE:Europe/Madrid
BEGIN:VEVENT
SUMMARY:Jam Session
DTSTART;TZID=Europe/Madrid;VALUE=DATE-TIME:20240606T200000
DTEND;TZID=Europe/Madrid;VALUE=DATE-TIME:20240606T210000
DTSTAMP;VALUE=DATE-TIME:20260425T185219Z
UID:377a6bfea6ad3d2156c15251c27d783e
CREATED;VALUE=DATE-TIME:20240606T000000Z
CATEGORIES:Música
LOCATION:Auditori de l'Escola Municipal de Música - Carretera Vilassar de Dalt, 52
COMMENT:Preu: Gratuït
DESCRIPTION:a càrrec de l'alumnat jove i adult de l'Escola de Música
URL:https://premiademar.cat/document.php?id=27000
END:VEVENT
END:VCALENDAR