BEGIN:VCALENDAR
VERSION:2.0
PRODID:-//Plone.org//NONSGML plone.app.event//EN
X-WR-TIMEZONE:Europe/Madrid
BEGIN:VEVENT
SUMMARY:Jornada de portes obertes
DTSTART;TZID=Europe/Madrid;VALUE=DATE-TIME:20241013T100000
DTEND;TZID=Europe/Madrid;VALUE=DATE-TIME:20241013T110000
DTSTAMP;VALUE=DATE-TIME:20260424T224005Z
UID:2d6c1973605df8a8fd19bf35f84712b7
CREATED;VALUE=DATE-TIME:20241012T000000Z
CATEGORIES:Museus i exposicions
LOCATION:Museu Romà - Carrer de la Vil·la Romana, s/n
ORGANIZER:Museu Romà de Premià de Mar
COMMENT:Col·labora: Museu de l'Estampació
Preu: Accés lliure amb motiu de les Jornades Europees de Patrimoni
Durada: De 10 a 14 h, i de 16 a 18.30 h
DESCRIPTION:Amb motiu de les Jornades Europees de Patrimoni
URL:https://premiademar.cat/document.php?id=28480
END:VEVENT
END:VCALENDAR