BEGIN:VCALENDAR
VERSION:2.0
PRODID:-//Plone.org//NONSGML plone.app.event//EN
X-WR-TIMEZONE:Europe/Madrid
BEGIN:VEVENT
SUMMARY:Jornades de portes obertes al Museu
DTSTART;TZID=Europe/Madrid;VALUE=DATE-TIME:20241019T173000
DTEND;TZID=Europe/Madrid;VALUE=DATE-TIME:20241019T183000
DTSTAMP;VALUE=DATE-TIME:20260424T191155Z
UID:8e500d0d83b78c721fa4ae699a72ed28
CREATED;VALUE=DATE-TIME:20241019T000000Z
CATEGORIES:Mostra,Activitats familiars,Museus i exposicions,Activitats
LOCATION:Museu de l'Estampació de Premià de Mar - Joan XXIII, 2-8
ORGANIZER:Ajuntament de Premià de Mar
COMMENT:Preu: Gratuït
DESCRIPTION:ArTardor 2024
URL:https://premiademar.cat/document.php?id=28991
END:VEVENT
END:VCALENDAR