BEGIN:VCALENDAR
VERSION:2.0
PRODID:-//Plone.org//NONSGML plone.app.event//EN
X-WR-TIMEZONE:Europe/Madrid
BEGIN:VEVENT
SUMMARY:Estampa el teu segell de l'estació de cartes
DTSTART;TZID=Europe/Madrid;VALUE=DATE-TIME:20250105T110000
DTEND;TZID=Europe/Madrid;VALUE=DATE-TIME:20250105T120000
DTSTAMP;VALUE=DATE-TIME:20260424T204353Z
UID:ac9f2eaded913fc28b14134c68b19282
CREATED;VALUE=DATE-TIME:20241227T000000Z
CATEGORIES:Activitats familiars,Museus i exposicions
LOCATION:Museu de l'Estampació de Premià de Mar - Joan XXIII, 2-8
ORGANIZER:Museu de l'Estampació
COMMENT:Preu: gratuït
Durada: d'11 a 14h
URL:https://premiademar.cat/document.php?id=29835
END:VEVENT
END:VCALENDAR