BEGIN:VCALENDAR
VERSION:2.0
PRODID:-//Plone.org//NONSGML plone.app.event//EN
X-WR-TIMEZONE:Europe/Madrid
BEGIN:VEVENT
SUMMARY:REUNIÓ DIRECCIÓ GENERAL CENTRES PÚBLICS (GENERALITAT)
DTSTART;TZID=Europe/Madrid;VALUE=DATE-TIME:20250113T123000
DTEND;TZID=Europe/Madrid;VALUE=DATE-TIME:20250113T133000
DTSTAMP;VALUE=DATE-TIME:20260420T112023Z
UID:b8cd982c6a688f482c2963ac6c712c37
CREATED;VALUE=DATE-TIME:20250113T000000Z
CATEGORIES:Agenda de l'alcalde
LOCATION:Barcelona
COMMENT:Durada: 1,5 hores
URL:https://premiademar.cat/document.php?id=30688
END:VEVENT
END:VCALENDAR