BEGIN:VCALENDAR
VERSION:2.0
PRODID:-//Plone.org//NONSGML plone.app.event//EN
X-WR-TIMEZONE:Europe/Madrid
BEGIN:VEVENT
SUMMARY:REUNIÓ AMB VEÍ
DTSTART;TZID=Europe/Madrid;VALUE=DATE-TIME:20250123T090000
DTEND;TZID=Europe/Madrid;VALUE=DATE-TIME:20250123T100000
DTSTAMP;VALUE=DATE-TIME:20260424T104324Z
UID:5ef40c7c542f6d024eaf4158baa8eb70
CREATED;VALUE=DATE-TIME:20250123T000000Z
CATEGORIES:Agenda de l'alcalde
LOCATION:Alcaldia
COMMENT:Durada: 1 hora
URL:https://premiademar.cat/document.php?id=30736
END:VEVENT
END:VCALENDAR