BEGIN:VCALENDAR
VERSION:2.0
PRODID:-//Plone.org//NONSGML plone.app.event//EN
X-WR-TIMEZONE:Europe/Madrid
BEGIN:VEVENT
SUMMARY:SIGNATURA CONVENI FUNDACIÓ GENTIS
DTSTART;TZID=Europe/Madrid;VALUE=DATE-TIME:20250131T090000
DTEND;TZID=Europe/Madrid;VALUE=DATE-TIME:20250131T100000
DTSTAMP;VALUE=DATE-TIME:20260424T135026Z
UID:51636633de9cf05af0b63c57c7b6a0bb
CREATED;VALUE=DATE-TIME:20250131T000000Z
CATEGORIES:Agenda de l'alcalde
LOCATION:Alcaldia
COMMENT:Durada: 1 hora
URL:https://premiademar.cat/document.php?id=30838
END:VEVENT
END:VCALENDAR