BEGIN:VCALENDAR
VERSION:2.0
PRODID:-//Plone.org//NONSGML plone.app.event//EN
X-WR-TIMEZONE:Europe/Madrid
BEGIN:VEVENT
SUMMARY:REUNIÓ AMB ASSOCIACIÓ SANPREM
DTSTART;TZID=Europe/Madrid;VALUE=DATE-TIME:20250131T103000
DTEND;TZID=Europe/Madrid;VALUE=DATE-TIME:20250131T113000
DTSTAMP;VALUE=DATE-TIME:20260420T113809Z
UID:07149e658ff75c4b96d5e3fa8f34a4a7
CREATED;VALUE=DATE-TIME:20250131T000000Z
CATEGORIES:Agenda de l'alcalde
LOCATION:Alcaldia
COMMENT:Durada: 1 hora
URL:https://premiademar.cat/document.php?id=30839
END:VEVENT
END:VCALENDAR