BEGIN:VCALENDAR
VERSION:2.0
PRODID:-//Plone.org//NONSGML plone.app.event//EN
X-WR-TIMEZONE:Europe/Madrid
BEGIN:VEVENT
SUMMARY:Premià Balla: Country
DTSTART;TZID=Europe/Madrid;VALUE=DATE-TIME:20250301T180000
DTEND;TZID=Europe/Madrid;VALUE=DATE-TIME:20250301T190000
DTSTAMP;VALUE=DATE-TIME:20260425T230320Z
UID:407e52b883810889c3bc4c4bec8b8987
CREATED;VALUE=DATE-TIME:20250301T000000Z
CATEGORIES:Dansa,Activitats
LOCATION:Centre Cívic - Esperança, 19
ORGANIZER:Ajuntament de Premià de Mar - CONEX
COMMENT:Preu: Gratuït
URL:https://premiademar.cat/document.php?id=30895
END:VEVENT
END:VCALENDAR