BEGIN:VCALENDAR
VERSION:2.0
PRODID:-//Plone.org//NONSGML plone.app.event//EN
X-WR-TIMEZONE:Europe/Madrid
BEGIN:VEVENT
SUMMARY:ENTREVISTA RÀDIO "PARLA L'ALCALDE"
DTSTART;TZID=Europe/Madrid;VALUE=DATE-TIME:20250207T120000
DTEND;TZID=Europe/Madrid;VALUE=DATE-TIME:20250207T130000
DTSTAMP;VALUE=DATE-TIME:20260420T113739Z
UID:c7b622f31fa9a76cab8b10fc8abf7a92
CREATED;VALUE=DATE-TIME:20250207T000000Z
CATEGORIES:Agenda de l'alcalde
LOCATION:Ràdio Premià de Mar
COMMENT:Durada: 1 hora
URL:https://premiademar.cat/document.php?id=30912
END:VEVENT
END:VCALENDAR