BEGIN:VCALENDAR
VERSION:2.0
PRODID:-//Plone.org//NONSGML plone.app.event//EN
X-WR-TIMEZONE:Europe/Madrid
BEGIN:VEVENT
SUMMARY:REUNIÓ EMPRESA TYN-E
DTSTART;TZID=Europe/Madrid;VALUE=DATE-TIME:20250207T130000
DTEND;TZID=Europe/Madrid;VALUE=DATE-TIME:20250207T140000
DTSTAMP;VALUE=DATE-TIME:20260420T113850Z
UID:c9770845d98546b5aee12c8ccd90bf43
CREATED;VALUE=DATE-TIME:20250207T000000Z
CATEGORIES:Agenda de l'alcalde
LOCATION:Marina Port Premià
COMMENT:Durada: 2 hores
URL:https://premiademar.cat/document.php?id=30913
END:VEVENT
END:VCALENDAR