BEGIN:VCALENDAR
VERSION:2.0
PRODID:-//Plone.org//NONSGML plone.app.event//EN
X-WR-TIMEZONE:Europe/Madrid
BEGIN:VEVENT
SUMMARY:El ball de la Disfressada
DTSTART;TZID=Europe/Madrid;VALUE=DATE-TIME:20250301T120000
DTEND;TZID=Europe/Madrid;VALUE=DATE-TIME:20250301T130000
DTSTAMP;VALUE=DATE-TIME:20260425T230223Z
UID:26aa3ba672e62be629f24b81dd487d47
CREATED;VALUE=DATE-TIME:20250301T000000Z
CATEGORIES:Activitats familiars,Cultura popular,Música,Activitats
LOCATION:Plaça de l'Ajuntament - Plaça Ajuntament, 1
ORGANIZER:De Bòlit!
COMMENT:Preu: Gratuït
DESCRIPTION:Festa Major Hivern-Carnaval 2025
URL:https://premiademar.cat/document.php?id=30967
END:VEVENT
END:VCALENDAR