BEGIN:VCALENDAR
VERSION:2.0
PRODID:-//Plone.org//NONSGML plone.app.event//EN
X-WR-TIMEZONE:Europe/Madrid
BEGIN:VEVENT
SUMMARY:Calçotada Popular
DTSTART;TZID=Europe/Madrid;VALUE=DATE-TIME:20250301T133000
DTEND;TZID=Europe/Madrid;VALUE=DATE-TIME:20250301T143000
DTSTAMP;VALUE=DATE-TIME:20260425T212221Z
UID:ade47faf1be3c4462b99aaa6766b9c74
CREATED;VALUE=DATE-TIME:20250301T000000Z
CATEGORIES:Activitats familiars,Cultura popular,Activitats
LOCATION:Plaça de Mercè Rodoreda - Plaça de Mercè Rodoreda
ORGANIZER:De Bòlit!
COMMENT:Preu: Menú carn o vegetal (13,00 &euro;)
DESCRIPTION:Festa Major Hivern - Carnaval 2025
URL:https://premiademar.cat/document.php?id=30968
END:VEVENT
END:VCALENDAR