BEGIN:VCALENDAR
VERSION:2.0
PRODID:-//Plone.org//NONSGML plone.app.event//EN
X-WR-TIMEZONE:Europe/Madrid
BEGIN:VEVENT
SUMMARY:Bingo musical
DTSTART;TZID=Europe/Madrid;VALUE=DATE-TIME:20250301T153000
DTEND;TZID=Europe/Madrid;VALUE=DATE-TIME:20250301T163000
DTSTAMP;VALUE=DATE-TIME:20260425T195241Z
UID:faf4587811557cffa8d22e6b6aa52ffb
CREATED;VALUE=DATE-TIME:20250301T000000Z
CATEGORIES:Activitats familiars,Cultura popular,Música,Activitats
LOCATION:Plaça de Mercè Rodoreda - Plaça de Mercè Rodoreda
ORGANIZER:De Bòlit!
COMMENT:Preu: Gratuït
DESCRIPTION:Festa Major Hivern - Carnaval 2025
URL:https://premiademar.cat/document.php?id=30969
END:VEVENT
END:VCALENDAR