BEGIN:VCALENDAR
VERSION:2.0
PRODID:-//Plone.org//NONSGML plone.app.event//EN
X-WR-TIMEZONE:Europe/Madrid
BEGIN:VEVENT
SUMMARY:Reconnecta amb tu: eines d'autocura per a dones
DTSTART;TZID=Europe/Madrid;VALUE=DATE-TIME:20250306T103000
DTEND;TZID=Europe/Madrid;VALUE=DATE-TIME:20250306T113000
DTSTAMP;VALUE=DATE-TIME:20260424T174430Z
UID:7a70e4dc1112b005dac3b7a4654c3bc6
CREATED;VALUE=DATE-TIME:20250306T000000Z
CATEGORIES:Activitats
LOCATION:Casa de la Dona - C/ Joan XXIII, 2 &ndash; 8 Nau 1
COMMENT:Preu: Gratuit
DESCRIPTION:A càrrec de Núria Arasa (SIAD)
URL:https://premiademar.cat/document.php?id=31177
END:VEVENT
END:VCALENDAR