BEGIN:VCALENDAR
VERSION:2.0
PRODID:-//Plone.org//NONSGML plone.app.event//EN
X-WR-TIMEZONE:Europe/Madrid
BEGIN:VEVENT
SUMMARY:ACTE ANUL·LAT: Poder, privilegis i masculinitat: una reflexió necessària
DTSTART;TZID=Europe/Madrid;VALUE=DATE-TIME:20250306T183000
DTEND;TZID=Europe/Madrid;VALUE=DATE-TIME:20250306T193000
DTSTAMP;VALUE=DATE-TIME:20260424T155659Z
UID:071b63a03595f71db840fccecd6ddfd8
CREATED;VALUE=DATE-TIME:20250306T000000Z
CATEGORIES:Activitats
LOCATION:Casa de la Dona - C/ Joan XXIII, 2 &ndash; 8 Nau 1
COMMENT:Preu: Gratuit
DESCRIPTION:A càrrec d'El taller: Masculinitats diverses i perspectiva de gènere
URL:https://premiademar.cat/document.php?id=31178
END:VEVENT
END:VCALENDAR