BEGIN:VCALENDAR
VERSION:2.0
PRODID:-//Plone.org//NONSGML plone.app.event//EN
X-WR-TIMEZONE:Europe/Madrid
BEGIN:VEVENT
SUMMARY:Recital Dia Internacional de la Poesia
DTSTART;TZID=Europe/Madrid;VALUE=DATE-TIME:20250324T203000
DTEND;TZID=Europe/Madrid;VALUE=DATE-TIME:20250324T213000
DTSTAMP;VALUE=DATE-TIME:20260425T212120Z
UID:ca44811b1ce9115710099cc426af3f74
CREATED;VALUE=DATE-TIME:20250324T000000Z
CATEGORIES:Música,Lletres i diàlegs
LOCATION:Auditori de l'Escola Municipal de Música - Carretera Vilassar de Dalt, 52
ORGANIZER:Escola Municipal de Música de Premià de Mar
COMMENT:Col·labora: Art Primilia
Preu: Gratis
DESCRIPTION:amb música de Henry Purcell
URL:https://premiademar.cat/document.php?id=31248
END:VEVENT
END:VCALENDAR