BEGIN:VCALENDAR
VERSION:2.0
PRODID:-//Plone.org//NONSGML plone.app.event//EN
X-WR-TIMEZONE:Europe/Madrid
BEGIN:VEVENT
SUMMARY:Audicions de Primavera
DTSTART;TZID=Europe/Madrid;VALUE=DATE-TIME:20250327T000000
DTEND;TZID=Europe/Madrid;VALUE=DATE-TIME:20250327T010000
DTSTAMP;VALUE=DATE-TIME:20260425T195026Z
UID:185a4b468ff5c45b98b0421bfc9f9c83
CREATED;VALUE=DATE-TIME:20250325T000000Z
CATEGORIES:Música
LOCATION:Auditori de l'Escola Municipal de Música - Carretera Vilassar de Dalt, 52
COMMENT:Preu: Gratuït
DESCRIPTION:a partir de les 17.15 hores
URL:https://premiademar.cat/document.php?id=31288
END:VEVENT
END:VCALENDAR