BEGIN:VCALENDAR
VERSION:2.0
PRODID:-//Plone.org//NONSGML plone.app.event//EN
X-WR-TIMEZONE:Europe/Madrid
BEGIN:VEVENT
SUMMARY:Dracs, déus i cavallers
DTSTART;TZID=Europe/Madrid;VALUE=DATE-TIME:20250418T170000
DTEND;TZID=Europe/Madrid;VALUE=DATE-TIME:20250418T180000
DTSTAMP;VALUE=DATE-TIME:20260425T150849Z
UID:26d0e1b98b942c7b6c743afabc402f2a
CREATED;VALUE=DATE-TIME:20250418T000000Z
CATEGORIES:Activitats familiars
LOCATION:Museu Romà (Espai Ferrerons) - Carrer de la Vil·la Romana, s/n
ORGANIZER:Museu Romà
COMMENT:Col·labora: Museu de l'Estampació
Preu: 4&euro; per persona
Durada: 60'
URL:https://premiademar.cat/document.php?id=31373
END:VEVENT
END:VCALENDAR