BEGIN:VCALENDAR
VERSION:2.0
PRODID:-//Plone.org//NONSGML plone.app.event//EN
X-WR-TIMEZONE:Europe/Madrid
BEGIN:VEVENT
SUMMARY:Mercat de segona mà i d'intercanvi
DTSTART;TZID=Europe/Madrid;VALUE=DATE-TIME:20250525T100000
DTEND;TZID=Europe/Madrid;VALUE=DATE-TIME:20250525T110000
DTSTAMP;VALUE=DATE-TIME:20260424T192835Z
UID:10214fcb211f51ebb0fabe1028a6fb6f
CREATED;VALUE=DATE-TIME:20250525T000000Z
CATEGORIES:Mostra,Activitats
LOCATION:Carrer Sant Antoni - Carrer Sant Antoni
ORGANIZER:Ajuntament de Premià de Mar i Premià Energia
COMMENT:Preu: Gratuït
Durada: De 10 a 14h
DESCRIPTION:Fira Cultura de la Sostenibilitat (FICUS)
URL:https://premiademar.cat/document.php?id=31664
END:VEVENT
END:VCALENDAR