BEGIN:VCALENDAR
VERSION:2.0
PRODID:-//Plone.org//NONSGML plone.app.event//EN
X-WR-TIMEZONE:Europe/Madrid
BEGIN:VEVENT
SUMMARY:ReparaTruck
DTSTART;TZID=Europe/Madrid;VALUE=DATE-TIME:20250525T110000
DTEND;TZID=Europe/Madrid;VALUE=DATE-TIME:20250525T120000
DTSTAMP;VALUE=DATE-TIME:20260424T121739Z
UID:65ca7b2fd4a4822abd43f3515a76892f
CREATED;VALUE=DATE-TIME:20250525T000000Z
CATEGORIES:Activitats
LOCATION:Carrer Sant Antoni - Carrer Sant Antoni
ORGANIZER:Ajuntament de Premià de Mar i Premià Energia
COMMENT:Preu: Gratuït
Durada: D'11 a 14h
DESCRIPTION:Fira Cultura de la Sostenibilitat (FICUS)
URL:https://premiademar.cat/document.php?id=31665
END:VEVENT
END:VCALENDAR