BEGIN:VCALENDAR
VERSION:2.0
PRODID:-//Plone.org//NONSGML plone.app.event//EN
X-WR-TIMEZONE:Europe/Madrid
BEGIN:VEVENT
SUMMARY:Mindfulness i desenvolupament personal
DTSTART;TZID=Europe/Madrid;VALUE=DATE-TIME:20250717T174500
DTEND;TZID=Europe/Madrid;VALUE=DATE-TIME:20250717T184500
DTSTAMP;VALUE=DATE-TIME:20260421T132653Z
UID:663138d701a1f2e67cd3743c821f19cb
CREATED;VALUE=DATE-TIME:20250619T000000Z
CATEGORIES:Activitats
LOCATION:Casa de la Dona - C/ Joan XXIII, 2  8 Nau 1
ORGANIZER:Ajuntament Premià de Mar
Casa de la Dona
COMMENT:Col·labora: ABECO
Preu: Gratuït
DESCRIPTION:Per aprofundir i obtenir eines
URL:https://premiademar.cat/document.php?id=31743
END:VEVENT
END:VCALENDAR