BEGIN:VCALENDAR
VERSION:2.0
PRODID:-//Plone.org//NONSGML plone.app.event//EN
X-WR-TIMEZONE:Europe/Madrid
BEGIN:VEVENT
SUMMARY:Els establiments de restauració del barri Tarter-Maresme surten al carrer a l'hora del vermut. La cuina de sempre i cuina internacional. Comerç Fest 2025
DTSTART;TZID=Europe/Madrid;VALUE=DATE-TIME:20250629T110000
DTEND;TZID=Europe/Madrid;VALUE=DATE-TIME:20250629T120000
DTSTAMP;VALUE=DATE-TIME:20260425T163742Z
UID:92c443a42fa425b23491635b5d57882b
CREATED;VALUE=DATE-TIME:20250629T000000Z
CATEGORIES:Activitats familiars
LOCATION:Carrer de la Mercè (entre carrer de la Plaça i Ramon y Cajal)
ORGANIZER:Ajuntament de Premià de Mar
COMMENT:Col·labora: Mercat de Sant Joan
Preu: A determinar
Durada: Fins les 16h
DESCRIPTION:Comerç Fest 2025
URL:https://premiademar.cat/document.php?id=31881
END:VEVENT
END:VCALENDAR