BEGIN:VCALENDAR
VERSION:2.0
PRODID:-//Plone.org//NONSGML plone.app.event//EN
X-WR-TIMEZONE:Europe/Madrid
BEGIN:VEVENT
SUMMARY:Sidral Rock
DTSTART;TZID=Europe/Madrid;VALUE=DATE-TIME:20250629T130000
DTEND;TZID=Europe/Madrid;VALUE=DATE-TIME:20250629T140000
DTSTAMP;VALUE=DATE-TIME:20260425T163645Z
UID:cf4bab5b35778866a04dc265f18bede9
CREATED;VALUE=DATE-TIME:20250629T000000Z
CATEGORIES:Música
LOCATION:Carrer Núria
ORGANIZER:Ajuntament de Premià de Mar
COMMENT:Preu: Gratuita
Durada: Fins les 15.30h
DESCRIPTION:Comerç Fest 2025
URL:https://premiademar.cat/document.php?id=31915
END:VEVENT
END:VCALENDAR