BEGIN:VCALENDAR
VERSION:2.0
PRODID:-//Plone.org//NONSGML plone.app.event//EN
X-WR-TIMEZONE:Europe/Madrid
BEGIN:VEVENT
SUMMARY:Eufòria petita
DTSTART;TZID=Europe/Madrid;VALUE=DATE-TIME:20250708T184500
DTEND;TZID=Europe/Madrid;VALUE=DATE-TIME:20250708T194500
DTSTAMP;VALUE=DATE-TIME:20260425T181636Z
UID:e86091dd9e9708071aa71b0c0d61520f
CREATED;VALUE=DATE-TIME:20250708T000000Z
CATEGORIES:Activitats familiars,Cultura popular,Activitats
LOCATION:Plaça de l'Ajuntament - Plaça Ajuntament, 1
COMMENT:Col·labora: Associació Comissió de Pirates i Premianencs i De Bòlit!
Preu: Gratuït
DESCRIPTION:Festa Major 2025
URL:https://premiademar.cat/document.php?id=31955
END:VEVENT
END:VCALENDAR