BEGIN:VCALENDAR
VERSION:2.0
PRODID:-//Plone.org//NONSGML plone.app.event//EN
X-WR-TIMEZONE:Europe/Madrid
BEGIN:VEVENT
SUMMARY:Premià està de festa! amb Funktory
DTSTART;TZID=Europe/Madrid;VALUE=DATE-TIME:20250708T234500
DTEND;TZID=Europe/Madrid;VALUE=DATE-TIME:20250709T004500
DTSTAMP;VALUE=DATE-TIME:20260425T225343Z
UID:1f9a45551ae880a6dbfed5a2939a886f
CREATED;VALUE=DATE-TIME:20250708T000000Z
CATEGORIES:Activitats familiars,Cultura popular,Música,Activitats
LOCATION:Plaça de l'Ajuntament - Plaça Ajuntament, 1
COMMENT:Preu: Gratuït
Durada: En acabaer l'Eufòria
DESCRIPTION:Festa Major 2025
URL:https://premiademar.cat/document.php?id=31960
END:VEVENT
END:VCALENDAR