BEGIN:VCALENDAR
VERSION:2.0
PRODID:-//Plone.org//NONSGML plone.app.event//EN
X-WR-TIMEZONE:Europe/Madrid
BEGIN:VEVENT
SUMMARY:Botifarrada
DTSTART;TZID=Europe/Madrid;VALUE=DATE-TIME:20250713T100000
DTEND;TZID=Europe/Madrid;VALUE=DATE-TIME:20250713T110000
DTSTAMP;VALUE=DATE-TIME:20260424T141035Z
UID:e6b604994f1660f20dc09adbecdab141
CREATED;VALUE=DATE-TIME:20250713T000000Z
CATEGORIES:Cultura popular,Activitats
LOCATION:Plaça Nova - Plaça Nova
COMMENT:Col·labora: Comissió de Festa Major
Preu: 3 &euro;
DESCRIPTION:Festa Major 2025
URL:https://premiademar.cat/document.php?id=32050
END:VEVENT
END:VCALENDAR