BEGIN:VCALENDAR
VERSION:2.0
PRODID:-//Plone.org//NONSGML plone.app.event//EN
X-WR-TIMEZONE:Europe/Madrid
BEGIN:VEVENT
SUMMARY:Vermut musical amb DJ
DTSTART;TZID=Europe/Madrid;VALUE=DATE-TIME:20250713T110000
DTEND;TZID=Europe/Madrid;VALUE=DATE-TIME:20250713T120000
DTSTAMP;VALUE=DATE-TIME:20260421T103729Z
UID:fe7a5164a0ca68998d4aeda5fa1add20
CREATED;VALUE=DATE-TIME:20250713T000000Z
CATEGORIES:Cultura popular,Música,Activitats
LOCATION:A la plaça de l'Endalet
ORGANIZER:Decibels i AAVV Tarter Maresme
COMMENT:Preu: Gratuït
DESCRIPTION:Festa Major 2025
URL:https://premiademar.cat/document.php?id=32052
END:VEVENT
END:VCALENDAR