BEGIN:VCALENDAR
VERSION:2.0
PRODID:-//Plone.org//NONSGML plone.app.event//EN
X-WR-TIMEZONE:Europe/Madrid
BEGIN:VEVENT
SUMMARY:Paella popular
DTSTART;TZID=Europe/Madrid;VALUE=DATE-TIME:20250713T140000
DTEND;TZID=Europe/Madrid;VALUE=DATE-TIME:20250713T150000
DTSTAMP;VALUE=DATE-TIME:20260424T192912Z
UID:8b0bc135cecd402186cc39cada31b61d
CREATED;VALUE=DATE-TIME:20250713T000000Z
CATEGORIES:Activitats familiars,Cultura popular,Activitats
LOCATION:Escola La Lió - Joan Prim, 30
COMMENT:Col·labora: Comissió Paella
Preu: 5 &euro;
DESCRIPTION:Festa Major 2025
URL:https://premiademar.cat/document.php?id=32053
END:VEVENT
END:VCALENDAR