BEGIN:VCALENDAR
VERSION:2.0
PRODID:-//Plone.org//NONSGML plone.app.event//EN
X-WR-TIMEZONE:Europe/Madrid
BEGIN:VEVENT
SUMMARY:Taller familiar: Ars Nvmerica. Descobrint el passat romà a través dels números
DTSTART;TZID=Europe/Madrid;VALUE=DATE-TIME:20250713T120000
DTEND;TZID=Europe/Madrid;VALUE=DATE-TIME:20250713T130000
DTSTAMP;VALUE=DATE-TIME:20260424T141006Z
UID:442e6d74861d58bcfb054e9b60b93b57
CREATED;VALUE=DATE-TIME:20250713T000000Z
CATEGORIES:Activitats familiars
LOCATION:Museu Romà (Espai Ferrerons) - Carrer de la Vil·la Romana, s/n
ORGANIZER:Museu Romà
COMMENT:Col·labora: Museu de l'Estampació
Preu: 4&euro;/persona
Durada: 60'
URL:https://premiademar.cat/document.php?id=32067
END:VEVENT
END:VCALENDAR