BEGIN:VCALENDAR
VERSION:2.0
PRODID:-//Plone.org//NONSGML plone.app.event//EN
X-WR-TIMEZONE:Europe/Madrid
BEGIN:VEVENT
SUMMARY:Mostra d'activitats extraescolars
DTSTART;TZID=Europe/Madrid;VALUE=DATE-TIME:20250907T100000
DTEND;TZID=Europe/Madrid;VALUE=DATE-TIME:20250907T110000
DTSTAMP;VALUE=DATE-TIME:20260421T130102Z
UID:6879adf58a78cff355a45de3d5b994c3
CREATED;VALUE=DATE-TIME:20250907T000000Z
CATEGORIES:Mostra,Activitats
LOCATION:Plaça Països Catalans i Gran Via - Plaça Països Catalans
ORGANIZER:Ajuntament de Premià de Mar
COMMENT:Preu: Gratuït
Durada: A partir de les 10h
URL:https://premiademar.cat/document.php?id=32207
END:VEVENT
END:VCALENDAR