BEGIN:VCALENDAR
VERSION:2.0
PRODID:-//Plone.org//NONSGML plone.app.event//EN
X-WR-TIMEZONE:Europe/Madrid
BEGIN:VEVENT
SUMMARY:Festa del barri del Gas
DTSTART;TZID=Europe/Madrid;VALUE=DATE-TIME:20250831T000000
DTEND;TZID=Europe/Madrid;VALUE=DATE-TIME:20250831T010000
DTSTAMP;VALUE=DATE-TIME:20260424T175212Z
UID:570673b2a9408925c636338abafc5d28
CREATED;VALUE=DATE-TIME:20250830T000000Z
CATEGORIES:Activitats
LOCATION:Plaça Santa Rosa, Avinguda de Roma i Plaça del Gas
ORGANIZER:Associació de veïns del Barri del Gas
COMMENT:Col·labora: Ajuntament de Premià de Mar
Preu: Gratuït
URL:https://premiademar.cat/document.php?id=32289
END:VEVENT
END:VCALENDAR