BEGIN:VCALENDAR
VERSION:2.0
PRODID:-//Plone.org//NONSGML plone.app.event//EN
X-WR-TIMEZONE:Europe/Madrid
BEGIN:VEVENT
SUMMARY:Los Juegos del Hambre (2012)
DTSTART;TZID=Europe/Madrid;VALUE=DATE-TIME:20251128T200000
DTEND;TZID=Europe/Madrid;VALUE=DATE-TIME:20251128T210000
DTSTAMP;VALUE=DATE-TIME:20260424T051414Z
UID:ac690bc47ea2f5b1c4f30e653544226a
CREATED;VALUE=DATE-TIME:20251128T000000Z
CATEGORIES:Cinema,Activitats
LOCATION:Espai l'Amistat - Carrer de Sant Antoni, 60
ORGANIZER:Ajuntament de Premià de Mar
COMMENT:Col·labora: És una de les propostes seleccionades dins els Pressupostos Participatius Joves 2025-2026
Preu: Entrada gratuïta
Durada: Es podran veure els dos primers títols de la Saga Los Juegos del Hambre: 
&bull; 26 setembre. 20h. Espai l'Amistat. &ldquo;Los Juegos del Hambre&rdquo; (2012) 
&bull; 27 setembre. 20h. Espai l'Amistat. &Ope
DESCRIPTION:Cicle de cinema gratüit per a joves (Entre 12 i 29 anys): Saga Los juegos del hambre
URL:https://premiademar.cat/document.php?id=32313
END:VEVENT
END:VCALENDAR