BEGIN:VCALENDAR
VERSION:2.0
PRODID:-//Plone.org//NONSGML plone.app.event//EN
X-WR-TIMEZONE:Europe/Madrid
BEGIN:VEVENT
SUMMARY:Inauguració del Festival de novel·la negra i crònica criminal
DTSTART;TZID=Europe/Madrid;VALUE=DATE-TIME:20251003T183000
DTEND;TZID=Europe/Madrid;VALUE=DATE-TIME:20251003T193000
DTSTAMP;VALUE=DATE-TIME:20260426T002314Z
UID:33e1038370725c76780b226b1f349a32
CREATED;VALUE=DATE-TIME:20251003T000000Z
CATEGORIES:Conferència,Cinema,Lletres i diàlegs,Activitats
LOCATION:Espai l'Amistat - Carrer de Sant Antoni, 60
ORGANIZER:Ajuntament de Premià de Mar
COMMENT:Preu: Gratuït
Durada: Festival de novel·la negra 3-4-5 d'octubre de 2025
DESCRIPTION:Premià del Mal
URL:https://premiademar.cat/document.php?id=32350
END:VEVENT
END:VCALENDAR