BEGIN:VCALENDAR
VERSION:2.0
PRODID:-//Plone.org//NONSGML plone.app.event//EN
X-WR-TIMEZONE:Europe/Madrid
BEGIN:VEVENT
SUMMARY:Cinema negre. La Llei del silenci. Elia Kazan
DTSTART;TZID=Europe/Madrid;VALUE=DATE-TIME:20251003T203000
DTEND;TZID=Europe/Madrid;VALUE=DATE-TIME:20251003T213000
DTSTAMP;VALUE=DATE-TIME:20260426T014654Z
UID:53824bd02dbed714968db4d1d8734c73
CREATED;VALUE=DATE-TIME:20251003T000000Z
CATEGORIES:Cinema,Lletres i diàlegs
LOCATION:Espai l'Amistat - Carrer de Sant Antoni, 60
ORGANIZER:Ajuntament de Premià de Mar
COMMENT:Preu: Gratuït
Durada: Festival de novel·la negra 3-4-5 d'octubre de 2025
DESCRIPTION:Premià del Mal
URL:https://premiademar.cat/document.php?id=32351
END:VEVENT
END:VCALENDAR