BEGIN:VCALENDAR
VERSION:2.0
PRODID:-//Plone.org//NONSGML plone.app.event//EN
X-WR-TIMEZONE:Europe/Madrid
BEGIN:VEVENT
SUMMARY:Crims en societat. (Tarda)
DTSTART;TZID=Europe/Madrid;VALUE=DATE-TIME:20251004T000000
DTEND;TZID=Europe/Madrid;VALUE=DATE-TIME:20251004T010000
DTSTAMP;VALUE=DATE-TIME:20260425T222841Z
UID:d7c78cffd0f7430db56b386b842bda5c
CREATED;VALUE=DATE-TIME:20251004T000000Z
CATEGORIES:Mostra,Conferència,Cinema,Lletres i diàlegs,Activitats
LOCATION:Espai l'Amistat - Carrer de Sant Antoni, 60
ORGANIZER:Ajuntament de Premià de Mar
COMMENT:Preu: Gratuït
Durada: Festival de novel·la negra 3-4-5 d'octubre de 2025
DESCRIPTION:Premià del Mal
URL:https://premiademar.cat/document.php?id=32354
END:VEVENT
END:VCALENDAR