BEGIN:VCALENDAR
VERSION:2.0
PRODID:-//Plone.org//NONSGML plone.app.event//EN
X-WR-TIMEZONE:Europe/Madrid
BEGIN:VEVENT
SUMMARY:Cinema: "El fotògraf de Mauthausen"
DTSTART;TZID=Europe/Madrid;VALUE=DATE-TIME:20251009T190000
DTEND;TZID=Europe/Madrid;VALUE=DATE-TIME:20251009T200000
DTSTAMP;VALUE=DATE-TIME:20260425T194929Z
UID:e26dd4ae45c71ec46e1512aa6c9d84c0
CREATED;VALUE=DATE-TIME:20251009T000000Z
CATEGORIES:Cinema
LOCATION:Espai l'Amistat - Carrer de Sant Antoni, 60
ORGANIZER:Ajuntament de Premià de Mar
COMMENT:Preu: Gratuït
DESCRIPTION:Teixint memòria
URL:https://premiademar.cat/document.php?id=32508
END:VEVENT
END:VCALENDAR