BEGIN:VCALENDAR
VERSION:2.0
PRODID:-//Plone.org//NONSGML plone.app.event//EN
X-WR-TIMEZONE:Europe/Madrid
BEGIN:VEVENT
SUMMARY:Renovació DNI
DTSTART;TZID=Europe/Madrid;VALUE=DATE-TIME:20251015T090000
DTEND;TZID=Europe/Madrid;VALUE=DATE-TIME:20251015T100000
DTSTAMP;VALUE=DATE-TIME:20260425T181826Z
UID:67983d058320a3b0bb2d188aab5b94e0
CREATED;VALUE=DATE-TIME:20251015T000000Z
CATEGORIES:Activitats
LOCATION:Centre Cívic - Esperança, 19
ORGANIZER:Policia local de Premià de Mar
Cos Nacional de Policia
COMMENT:Col·labora: Ajuntament de Premià de Mar
Durada: De 9 a 13 h
DESCRIPTION:amb cita prèvia del 8 d'octubre al Centre Cívic
URL:https://premiademar.cat/document.php?id=32531
END:VEVENT
END:VCALENDAR