BEGIN:VCALENDAR
VERSION:2.0
PRODID:-//Plone.org//NONSGML plone.app.event//EN
X-WR-TIMEZONE:Europe/Madrid
BEGIN:VEVENT
SUMMARY:Tast de vins DO Alella i visita temàtica al jaciment: entre àmfores, dolia i vinyes
DTSTART;TZID=Europe/Madrid;VALUE=DATE-TIME:20251011T123000
DTEND;TZID=Europe/Madrid;VALUE=DATE-TIME:20251011T133000
DTSTAMP;VALUE=DATE-TIME:20260425T195119Z
UID:7dcc8b6e1f0db97c962e978082ee46b5
CREATED;VALUE=DATE-TIME:20251011T000000Z
CATEGORIES:Activitats
LOCATION:Museu Romà i Espai Ferrerons - Carrer de la Vil·la Romana, s/n
ORGANIZER:Museu Romà
COMMENT:Col·labora: Museu de l'Estampació
Preu: 10&euro;/persona
Durada: 60'
URL:https://premiademar.cat/document.php?id=32534
END:VEVENT
END:VCALENDAR