BEGIN:VCALENDAR
VERSION:2.0
PRODID:-//Plone.org//NONSGML plone.app.event//EN
X-WR-TIMEZONE:Europe/Madrid
BEGIN:VEVENT
SUMMARY:Premià de Mar en marxa contra el càncer
DTSTART;TZID=Europe/Madrid;VALUE=DATE-TIME:20251019T100000
DTEND;TZID=Europe/Madrid;VALUE=DATE-TIME:20251019T110000
DTSTAMP;VALUE=DATE-TIME:20260425T140355Z
UID:e43c023994c461e7b5d3bd71c52c0487
CREATED;VALUE=DATE-TIME:20251019T000000Z
CATEGORIES:Esports,Esport femení,Activitats familiars,Activitats
LOCATION:Plaça Països Catalans - Plaça Països Catalans
ORGANIZER:Associació contra el càncer
COMMENT:Col·labora: Ajuntament de Premià de Mar
Preu: 10 euros. Inclou Samarreta, avituallament i assegurança
DESCRIPTION:Som-hi! Caps de setmana per descobrir
URL:https://premiademar.cat/document.php?id=32562
END:VEVENT
END:VCALENDAR