BEGIN:VCALENDAR
VERSION:2.0
PRODID:-//Plone.org//NONSGML plone.app.event//EN
X-WR-TIMEZONE:Europe/Madrid
BEGIN:VEVENT
SUMMARY:Parlem amb els Espiguladors
DTSTART;TZID=Europe/Madrid;VALUE=DATE-TIME:20250930T180000
DTEND;TZID=Europe/Madrid;VALUE=DATE-TIME:20250930T190000
DTSTAMP;VALUE=DATE-TIME:20260426T032338Z
UID:0bc172882b822a713d9ca430d72ac610
CREATED;VALUE=DATE-TIME:20250930T000000Z
CATEGORIES:Activitats
LOCATION:Biblioteca Martí Rosselló i Lloveras - Carretera de Vilassar de Dalt, 100
ORGANIZER:Banc de Temps
COMMENT:Preu: Estrada lliure
Durada: 2 hores
DESCRIPTION:Parlem amb els Espiguladors
URL:https://premiademar.cat/document.php?id=32566
END:VEVENT
END:VCALENDAR