BEGIN:VCALENDAR
VERSION:2.0
PRODID:-//Plone.org//NONSGML plone.app.event//EN
X-WR-TIMEZONE:Europe/Madrid
BEGIN:VEVENT
SUMMARY:El judici a Gesualdo
DTSTART;TZID=Europe/Madrid;VALUE=DATE-TIME:20251010T200000
DTEND;TZID=Europe/Madrid;VALUE=DATE-TIME:20251010T210000
DTSTAMP;VALUE=DATE-TIME:20260425T200441Z
UID:1c09e6df855912510af97485fc920620
CREATED;VALUE=DATE-TIME:20251010T000000Z
CATEGORIES:Música
LOCATION:Espai l'Amistat - Carrer de Sant Antoni, 60
ORGANIZER:Coral l'Amistat Ajuntament de Premià de Mar
COMMENT:Col·labora: GENCAT i DIBA
Preu: 11 &euro; anticipada, 10 &euro; gent gran, 8 &euro; joves
Durada: 1.15 h
DESCRIPTION:XIV Temporada de música de l'Espai l'Amistat
URL:https://premiademar.cat/document.php?id=32567
END:VEVENT
END:VCALENDAR